BEGIN:VCALENDAR
VERSION:2.0
PRODID:-//WSV de Buitenhaven - ECPv6.3.7//NONSGML v1.0//EN
CALSCALE:GREGORIAN
METHOD:PUBLISH
X-WR-CALNAME:WSV de Buitenhaven
X-ORIGINAL-URL:https://www.wsvdebuitenhaven.nl
X-WR-CALDESC:Evenementen voor WSV de Buitenhaven
REFRESH-INTERVAL;VALUE=DURATION:PT1H
X-Robots-Tag:noindex
X-PUBLISHED-TTL:PT1H
BEGIN:VTIMEZONE
TZID:Europe/Amsterdam
BEGIN:DAYLIGHT
TZOFFSETFROM:+0100
TZOFFSETTO:+0200
TZNAME:CEST
DTSTART:20240331T010000
END:DAYLIGHT
BEGIN:STANDARD
TZOFFSETFROM:+0200
TZOFFSETTO:+0100
TZNAME:CET
DTSTART:20241027T010000
END:STANDARD
BEGIN:DAYLIGHT
TZOFFSETFROM:+0100
TZOFFSETTO:+0200
TZNAME:CEST
DTSTART:20250330T010000
END:DAYLIGHT
BEGIN:STANDARD
TZOFFSETFROM:+0200
TZOFFSETTO:+0100
TZNAME:CET
DTSTART:20251026T010000
END:STANDARD
END:VTIMEZONE
BEGIN:VEVENT
DTSTART;TZID=Europe/Amsterdam:20250905T120000
DTEND;TZID=Europe/Amsterdam:20250907T120000
DTSTAMP:20260424T040432
CREATED:20250514T081607Z
LAST-MODIFIED:20250514T081750Z
UID:1921-1757073600-1757246400@www.wsvdebuitenhaven.nl
SUMMARY:Staverse Kotterclub
DESCRIPTION:8 boten van 12.50m
URL:https://www.wsvdebuitenhaven.nl/agenda/staverse-kotterclub/
CATEGORIES:Reserveringen
END:VEVENT
BEGIN:VEVENT
DTSTART;VALUE=DATE:20250627
DTEND;VALUE=DATE:20250630
DTSTAMP:20260424T040432
CREATED:20250219T082254Z
LAST-MODIFIED:20250514T081756Z
UID:1911-1750982400-1751241599@www.wsvdebuitenhaven.nl
SUMMARY:Oostwal Botterevenement
DESCRIPTION:
URL:https://www.wsvdebuitenhaven.nl/agenda/oostwal-botterevenement/
CATEGORIES:Reserveringen
END:VEVENT
BEGIN:VEVENT
DTSTART;TZID=Europe/Amsterdam:20250620T130000
DTEND;TZID=Europe/Amsterdam:20250622T120000
DTSTAMP:20260424T040432
CREATED:20250328T101914Z
LAST-MODIFIED:20250514T081320Z
UID:1914-1750424400-1750593600@www.wsvdebuitenhaven.nl
SUMMARY:Toertocht van de Koninklijke Nederlandsche Motorboot Club
DESCRIPTION:
URL:https://www.wsvdebuitenhaven.nl/agenda/toertocht-van-de-koninklijke-nederlandsche-motorboot-club-2/
LOCATION:Oude Buitenhaven\, Havenweg 1\, Kampen
CATEGORIES:Reserveringen
END:VEVENT
BEGIN:VEVENT
DTSTART;VALUE=DATE:20250611
DTEND;VALUE=DATE:20250615
DTSTAMP:20260424T040432
CREATED:20250219T081832Z
LAST-MODIFIED:20250514T081336Z
UID:1908-1749600000-1749945599@www.wsvdebuitenhaven.nl
SUMMARY:Toertocht van de Koninklijke Nederlandsche Motorboot Club
DESCRIPTION:Een toertocht van de Koninklijke Nederlandsche Motorboot Club doet onze haven aan.
URL:https://www.wsvdebuitenhaven.nl/agenda/toertocht-van-de-koninklijke-nederlandsche-motorboot-club/
LOCATION:Oude Buitenhaven\, Havenweg 1\, Kampen
CATEGORIES:Reserveringen
END:VEVENT
BEGIN:VEVENT
DTSTART;VALUE=DATE:20250606
DTEND;VALUE=DATE:20250609
DTSTAMP:20260424T040432
CREATED:20250430T142742Z
LAST-MODIFIED:20250514T081342Z
UID:1916-1749168000-1749427199@www.wsvdebuitenhaven.nl
SUMMARY:Brandsma Motorboot Club
DESCRIPTION:De Brandsma Motorboot Club uit Sneek bestaat 25 jaar en viert dat bij ons in Kampen. Welkom!
URL:https://www.wsvdebuitenhaven.nl/agenda/brandsma-motorboot-club/
LOCATION:Oude Buitenhaven\, Havenweg 1\, Kampen
CATEGORIES:Reserveringen
END:VEVENT
BEGIN:VEVENT
DTSTART;VALUE=DATE:20250529
DTEND;VALUE=DATE:20250602
DTSTAMP:20260424T040432
CREATED:20240420T184708Z
LAST-MODIFIED:20250207T124941Z
UID:1749-1748476800-1748822399@www.wsvdebuitenhaven.nl
SUMMARY:‘Natte treffen’ SK Vloot
DESCRIPTION:
URL:https://www.wsvdebuitenhaven.nl/agenda/natte-treffen-sk-vloot/
LOCATION:Oude Buitenhaven\, Havenweg 1\, Kampen
CATEGORIES:Reserveringen
END:VEVENT
BEGIN:VEVENT
DTSTART;VALUE=DATE:20240927
DTEND;VALUE=DATE:20240928
DTSTAMP:20260424T040432
CREATED:20240420T184556Z
LAST-MODIFIED:20240420T184556Z
UID:1747-1727395200-1727481599@www.wsvdebuitenhaven.nl
SUMMARY:Schleusenverein.ch
DESCRIPTION:
URL:https://www.wsvdebuitenhaven.nl/agenda/schleusenverein-ch/
LOCATION:Oude Buitenhaven\, Havenweg 1\, Kampen
CATEGORIES:Reserveringen
END:VEVENT
BEGIN:VEVENT
DTSTART;VALUE=DATE:20240628
DTEND;VALUE=DATE:20240701
DTSTAMP:20260424T040432
CREATED:20240420T183921Z
LAST-MODIFIED:20240420T184149Z
UID:1740-1719532800-1719791999@www.wsvdebuitenhaven.nl
SUMMARY:Oostwal Botterraces
DESCRIPTION:Lees meer op Oostwalbotterwedstrijd – Kamper Botter (kamperbotters.nl)
URL:https://www.wsvdebuitenhaven.nl/agenda/oostwal-botterraces/
LOCATION:Oude Buitenhaven\, Havenweg 1\, Kampen
CATEGORIES:Reserveringen
ATTACH;FMTTYPE=image/png:https://www.wsvdebuitenhaven.nl/wp-content/uploads/2024/04/Scherm­afbeelding-2024-04-20-om-20.40.49.png
END:VEVENT
BEGIN:VEVENT
DTSTART;VALUE=DATE:20240511
DTEND;VALUE=DATE:20240513
DTSTAMP:20260424T040432
CREATED:20240420T183609Z
LAST-MODIFIED:20240420T183718Z
UID:1738-1715385600-1715558399@www.wsvdebuitenhaven.nl
SUMMARY:Linssen Owners Group (Voorjaarstocht)
DESCRIPTION:Met 16 boten van de Linssen Owners Group is de Oude Buitenhaven deze dagen helemaal vol.
URL:https://www.wsvdebuitenhaven.nl/agenda/linssen-owners-group-voorjaarstocht/
LOCATION:Oude Buitenhaven\, Havenweg 1\, Kampen
CATEGORIES:Reserveringen
ATTACH;FMTTYPE=image/jpeg:https://www.wsvdebuitenhaven.nl/wp-content/uploads/2019/05/DSC_5752hd.jpg
END:VEVENT
BEGIN:VEVENT
DTSTART;VALUE=DATE:20240509
DTEND;VALUE=DATE:20240512
DTSTAMP:20260424T040432
CREATED:20240420T183307Z
LAST-MODIFIED:20240420T183350Z
UID:1736-1715212800-1715471999@www.wsvdebuitenhaven.nl
SUMMARY:Waddertreffen
DESCRIPTION:Er komen tussen de 10 à 15 Wadders komen. De boten zijn 8 meter lang en 3 meter breed. De Oude Buitenhaven is dan helemaal vol.
URL:https://www.wsvdebuitenhaven.nl/agenda/waddertreffen/
LOCATION:Oude Buitenhaven\, Havenweg 1\, Kampen
CATEGORIES:Reserveringen
ATTACH;FMTTYPE=image/png:https://www.wsvdebuitenhaven.nl/wp-content/uploads/2024/04/Scherm­afbeelding-2024-04-20-om-20.31.40.png
END:VEVENT
BEGIN:VEVENT
DTSTART;VALUE=DATE:20240504
DTEND;VALUE=DATE:20240506
DTSTAMP:20260424T040432
CREATED:20240420T181058Z
LAST-MODIFIED:20240420T181109Z
UID:1727-1714780800-1714953599@www.wsvdebuitenhaven.nl
SUMMARY:WSV Hoorn
DESCRIPTION:Op 4 en 5 mei komen er 7 schepen van de WSV Hoorn in de Oude Buitenhaven. De gemiddelde lengte van de schepen is 10-14 meter. Wij verwachten dat de Oude Buitenhaven dan ook vol zal zijn.
URL:https://www.wsvdebuitenhaven.nl/agenda/wsv-hoorn/
LOCATION:Oude Buitenhaven\, Havenweg 1\, Kampen
CATEGORIES:Reserveringen
ATTACH;FMTTYPE=image/jpeg:https://www.wsvdebuitenhaven.nl/wp-content/uploads/2020/08/DSC_7347hd.jpg
END:VEVENT
BEGIN:VEVENT
DTSTART;VALUE=DATE:20240429
DTEND;VALUE=DATE:20240501
DTSTAMP:20260424T040432
CREATED:20240420T174220Z
LAST-MODIFIED:20240420T183816Z
UID:1712-1714348800-1714521599@www.wsvdebuitenhaven.nl
SUMMARY:Smelneclub Drachten
DESCRIPTION:De Smelneclub uit Drachten komt met een groep boten in de Oude Buitenhaven. De haven is dan naar verwachting helemaal vol.
URL:https://www.wsvdebuitenhaven.nl/agenda/smelneclub-drachten/
LOCATION:Oude Buitenhaven\, Havenweg 1\, Kampen
CATEGORIES:Reserveringen
ATTACH;FMTTYPE=image/jpeg:https://www.wsvdebuitenhaven.nl/wp-content/uploads/2024/04/smelne.jpg
END:VEVENT
END:VCALENDAR